BEGIN:VCALENDAR
VERSION:2.0
PRODID:icalendar-ruby
CALSCALE:GREGORIAN
METHOD:PUBLISH
BEGIN:VEVENT
DTSTAMP:20260421T162950Z
UID:217-753345@tisdalechurch.org
DTSTART;VALUE=DATE:20260430
DTEND;VALUE=DATE:20260502
CLASS:PUBLIC
CREATED:20260415T150025
DESCRIPTION:We are excited to announce our next International Leadership In
 stitute (ILI) Training – Module 1 will be taking place April 30th throug
 h May 2nd in Wichita\, Kansas.\nThis training is designed to equip and str
 engthen leaders through ILI’s proven framework\, focusing on character\,
  vision\, and skills essential for effective leadership. Whether you are n
 ew to ILI or beginning your leadership development journey\, Module 1 prov
 ides a strong foundation for growth and multiplication.\nWe would love for
  you to join us for this impactful time of learning\, connection\, and enc
 ouragement alongside other leaders from across the region.\nDates: April 3
 0 – May 2\nNew Covenant Church\n1710 W Douglas Ave\nWichita\, KS\nCost i
 s $30 per person\nThursday\, April 30th – 8:30am – 6pm\nFriday\, May 1
 st – 9am – 6pm\nSaturday\, May 2nd – 9am – 1pm\nLunch will be prov
 ided on Thursday and Friday.\nClick here to register.  
LAST-MODIFIED:20260415T150025
LOCATION:New Covenant Church 
SUMMARY:International Leadership Institute (ILI) Training
URL;VALUE=URI:https://tisdalechurch.com/events/international-leadership-ins
 titute-ili-training/2026-04-30
ATTACH;FILENAME=ILI-Logo.png;FMTTYPE=image/png:https://dq5pwpg1q8ru0.cloudf
 ront.net/2026/04/15/20/00/25/a4034174-31fa-44e4-b937-fca65d672caa/ILI-Logo
 .png
END:VEVENT
END:VCALENDAR
